BEGIN:VCALENDAR
VERSION:2.0
PRODID:-//Studium Generale Universiteit Utrecht//NONSGML sg.uu.nl//
METHOD:PUBLISH
CALSCALE:GREGORIAN
BEGIN:VEVENT
UID:event003542@sg.uu.nl
DTSTART;TZID=UTC;VALUE=DATE-TIME:20160209T180000
DTEND;TZID=UTC;VALUE=DATE-TIME:20160209T193000
SUMMARY:Studium Generale: Alles is verbonden
DTSTAMP:20250717T091134Z
LAST-MODIFIED:20250717T091134Z
LOCATION:Academiegebouw (Aula)
DESCRIPTION:Hoe ziet het mondiale voedselsysteem er uit? En wat moet er kantelen om het duurzamer te maken?
URL;TYPE=URI:https://www.sg.uu.nl/agenda/2016/alles-verbonden
END:VEVENT
END:VCALENDAR