BEGIN:VCALENDAR
VERSION:2.0
PRODID:-//Studium Generale Universiteit Utrecht//NONSGML sg.uu.nl//
METHOD:PUBLISH
CALSCALE:GREGORIAN
BEGIN:VEVENT
UID:event003566@sg.uu.nl
DTSTART;TZID=UTC;VALUE=DATE-TIME:20191004T173000
DTEND;TZID=UTC;VALUE=DATE-TIME:20191005T000000
SUMMARY:Studium Generale: Betweter Festival
DTSTAMP:20250718T071941Z
LAST-MODIFIED:20250718T071941Z
LOCATION:Academiegebouw (Aula)
DESCRIPTION:Hét wetenschapsfestival van Utrecht. Out of the box en geestverruimend.
URL;TYPE=URI:https://www.sg.uu.nl/agenda/2019/betweter-festival
END:VEVENT
END:VCALENDAR