BEGIN:VCALENDAR
VERSION:2.0
PRODID:-//Studium Generale Universiteit Utrecht//NONSGML sg.uu.nl//
METHOD:PUBLISH
CALSCALE:GREGORIAN
BEGIN:VEVENT
UID:event003607@sg.uu.nl
DTSTART;TZID=UTC;VALUE=DATE-TIME:20221026T181500
DTEND;TZID=UTC;VALUE=DATE-TIME:20221026T191500
SUMMARY:Studium Generale: De Duiders over armoede in Nederland
DTSTAMP:20250718T071948Z
LAST-MODIFIED:20250718T071948Z
LOCATION:TivoliVredenburg (KF Hein Foyer)
DESCRIPTION:Wetenschappers over het nieuws van de dag
URL;TYPE=URI:https://www.sg.uu.nl/agenda/2022/de-duiders-over-armoede-nederland
END:VEVENT
END:VCALENDAR