BEGIN:VCALENDAR
VERSION:2.0
PRODID:-//Studium Generale Universiteit Utrecht//NONSGML sg.uu.nl//
METHOD:PUBLISH
CALSCALE:GREGORIAN
BEGIN:VEVENT
UID:event003628@sg.uu.nl
DTSTART;TZID=UTC;VALUE=DATE-TIME:20200904T183000
DTEND;TZID=UTC;VALUE=DATE-TIME:20200904T193000
SUMMARY:Studium Generale: De Futuristen #2 | Voorstelling
DTSTAMP:20250717T091141Z
LAST-MODIFIED:20250717T091141Z
LOCATION:Berlijnplein
DESCRIPTION:Denk mee over de wereld van morgen
URL;TYPE=URI:https://www.sg.uu.nl/agenda/2020/de-futuristen-2-voorstelling
END:VEVENT
END:VCALENDAR