BEGIN:VCALENDAR
VERSION:2.0
PRODID:-//Studium Generale Universiteit Utrecht//NONSGML sg.uu.nl//
METHOD:PUBLISH
CALSCALE:GREGORIAN
BEGIN:VEVENT
UID:event003641@sg.uu.nl
DTSTART;TZID=UTC;VALUE=DATE-TIME:20211122T190000
DTEND;TZID=UTC;VALUE=DATE-TIME:20211122T203000
SUMMARY:Studium Generale: De fysicus: je bent (meer dan) sterrenstof
DTSTAMP:20250717T091142Z
LAST-MODIFIED:20250717T091142Z
LOCATION:Anatomiegebouw
DESCRIPTION:Hoe kijkt een natuurkundige naar de mens?
URL;TYPE=URI:https://www.sg.uu.nl/agenda/2021/de-fysicus-je-bent-meer-dan-sterrenstof
END:VEVENT
END:VCALENDAR