BEGIN:VCALENDAR
VERSION:2.0
PRODID:-//Studium Generale Universiteit Utrecht//NONSGML sg.uu.nl//
METHOD:PUBLISH
CALSCALE:GREGORIAN
BEGIN:VEVENT
UID:event003679@sg.uu.nl
DTSTART;TZID=UTC;VALUE=DATE-TIME:20170328T160000
DTEND;TZID=UTC;VALUE=DATE-TIME:20170328T173000
SUMMARY:Studium Generale: Debat
DTSTAMP:20250717T091146Z
LAST-MODIFIED:20250717T091146Z
LOCATION:Academiegebouw (Aula)
DESCRIPTION:Wat ligt aan de wortel van klimaatproblematiek? En wat kunnen we eraan doen?
URL;TYPE=URI:https://www.sg.uu.nl/agenda/2017/debat
END:VEVENT
END:VCALENDAR