BEGIN:VCALENDAR
VERSION:2.0
PRODID:-//Studium Generale Universiteit Utrecht//NONSGML sg.uu.nl//
METHOD:PUBLISH
CALSCALE:GREGORIAN
BEGIN:VEVENT
UID:event003683@sg.uu.nl
DTSTART;TZID=UTC;VALUE=DATE-TIME:20171018T160000
DTEND;TZID=UTC;VALUE=DATE-TIME:20171018T173000
SUMMARY:Studium Generale: Democratie: geschikt/ongeschikt
DTSTAMP:20250718T071925Z
LAST-MODIFIED:20250718T071925Z
LOCATION:Academiegebouw (Aula)
DESCRIPTION:Hoe democratisch is Nederland?
URL;TYPE=URI:https://www.sg.uu.nl/agenda/2017/democratie-geschiktongeschikt
END:VEVENT
END:VCALENDAR