BEGIN:VCALENDAR
VERSION:2.0
PRODID:-//Studium Generale Universiteit Utrecht//NONSGML sg.uu.nl//
METHOD:PUBLISH
CALSCALE:GREGORIAN
BEGIN:VEVENT
UID:event003685@sg.uu.nl
DTSTART;TZID=UTC;VALUE=DATE-TIME:20250512T163000
DTEND;TZID=UTC;VALUE=DATE-TIME:20250512T193000
SUMMARY:Studium Generale: Dialoog Diner: De waarde van kunst
DTSTAMP:20250717T091146Z
LAST-MODIFIED:20250717T091146Z
LOCATION:De Hondekop
DESCRIPTION:Wat doet kunst met ons?
URL;TYPE=URI:https://www.sg.uu.nl/agenda/2025/dialoog-diner-de-waarde-van-kunst
END:VEVENT
END:VCALENDAR