BEGIN:VCALENDAR
VERSION:2.0
PRODID:-//Studium Generale Universiteit Utrecht//NONSGML sg.uu.nl//
METHOD:PUBLISH
CALSCALE:GREGORIAN
BEGIN:VEVENT
UID:event003697@sg.uu.nl
DTSTART;TZID=UTC;VALUE=DATE-TIME:20191022T180000
DTEND;TZID=UTC;VALUE=DATE-TIME:20191022T193000
SUMMARY:Studium Generale: Edward Said&#039;s Orientalism
DTSTAMP:20250717T091147Z
LAST-MODIFIED:20250717T091147Z
LOCATION:Academiegebouw (Aula)
DESCRIPTION:Why is the Arab-Islamic world often seen as backwards by &#039;civilised&#039; Europeans and Americans?
URL;TYPE=URI:https://www.sg.uu.nl/agenda/2019/edward-saids-orientalism
END:VEVENT
END:VCALENDAR