BEGIN:VCALENDAR
VERSION:2.0
PRODID:-//Studium Generale Universiteit Utrecht//NONSGML sg.uu.nl//
METHOD:PUBLISH
CALSCALE:GREGORIAN
BEGIN:VEVENT
UID:event003705@sg.uu.nl
DTSTART;TZID=UTC;VALUE=DATE-TIME:20171011T160000
DTEND;TZID=UTC;VALUE=DATE-TIME:20171011T173000
SUMMARY:Studium Generale: Eerlijk delen
DTSTAMP:20250718T071925Z
LAST-MODIFIED:20250718T071925Z
LOCATION:Academiegebouw (Aula)
DESCRIPTION:Heeft de deeleconomie zijn beste tijd gehad?
URL;TYPE=URI:https://www.sg.uu.nl/agenda/2017/eerlijk-delen
END:VEVENT
END:VCALENDAR