BEGIN:VCALENDAR
VERSION:2.0
PRODID:-//Studium Generale Universiteit Utrecht//NONSGML sg.uu.nl//
METHOD:PUBLISH
CALSCALE:GREGORIAN
BEGIN:VEVENT
UID:event003716@sg.uu.nl
DTSTART;TZID=UTC;VALUE=DATE-TIME:20180208T153000
DTEND;TZID=UTC;VALUE=DATE-TIME:20180208T161500
SUMMARY:Studium Generale: Extreme food obsession
DTSTAMP:20250718T071920Z
LAST-MODIFIED:20250718T071920Z
LOCATION:Green Office Utrecht
DESCRIPTION:Where to draw the line between extreme diets and eating disorders?
URL;TYPE=URI:https://www.sg.uu.nl/agenda/2018/extreme-food-obsession
END:VEVENT
END:VCALENDAR