BEGIN:VCALENDAR
VERSION:2.0
PRODID:-//Studium Generale Universiteit Utrecht//NONSGML sg.uu.nl//
METHOD:PUBLISH
CALSCALE:GREGORIAN
BEGIN:VEVENT
UID:event003730@sg.uu.nl
DTSTART;TZID=UTC;VALUE=DATE-TIME:20211026T180000
DTEND;TZID=UTC;VALUE=DATE-TIME:20211026T193000
SUMMARY:Studium Generale: Gelijke kansen in het onderwijs?
DTSTAMP:20250717T091150Z
LAST-MODIFIED:20250717T091150Z
LOCATION:TivoliVredenburg (Cloud Nine)
DESCRIPTION:Wat is de invloed van klasse en kleur op je onderwijskansen?
URL;TYPE=URI:https://www.sg.uu.nl/agenda/2021/gelijke-kansen-het-onderwijs
END:VEVENT
END:VCALENDAR