BEGIN:VCALENDAR
VERSION:2.0
PRODID:-//Studium Generale Universiteit Utrecht//NONSGML sg.uu.nl//
METHOD:PUBLISH
CALSCALE:GREGORIAN
BEGIN:VEVENT
UID:event003755@sg.uu.nl
DTSTART;TZID=UTC;VALUE=DATE-TIME:20250615T120000
DTEND;TZID=UTC;VALUE=DATE-TIME:20250615T133000
SUMMARY:Studium Generale: Het gevaar van het Main Character Syndrome
DTSTAMP:20250718T072003Z
LAST-MODIFIED:20250718T072003Z
LOCATION:NAR Café der Kunsten
DESCRIPTION:
URL;TYPE=URI:https://www.sg.uu.nl/agenda/2025/het-gevaar-van-het-main-character-syndrome
END:VEVENT
END:VCALENDAR