BEGIN:VCALENDAR
VERSION:2.0
PRODID:-//Studium Generale Universiteit Utrecht//NONSGML sg.uu.nl//
METHOD:PUBLISH
CALSCALE:GREGORIAN
BEGIN:VEVENT
UID:event003758@sg.uu.nl
DTSTART;TZID=UTC;VALUE=DATE-TIME:20170405T160000
DTEND;TZID=UTC;VALUE=DATE-TIME:20170405T173000
SUMMARY:Studium Generale: Het spook Srebrenica
DTSTAMP:20250717T091152Z
LAST-MODIFIED:20250717T091152Z
LOCATION:Academiegebouw (Aula)
DESCRIPTION:Hoe verwerk je een nationaal trauma?
URL;TYPE=URI:https://www.sg.uu.nl/agenda/2017/het-spook-srebrenica
END:VEVENT
END:VCALENDAR