BEGIN:VCALENDAR
VERSION:2.0
PRODID:-//Studium Generale Universiteit Utrecht//NONSGML sg.uu.nl//
METHOD:PUBLISH
CALSCALE:GREGORIAN
BEGIN:VEVENT
UID:event003762@sg.uu.nl
DTSTART;TZID=UTC;VALUE=DATE-TIME:20200421T173000
DTEND;TZID=UTC;VALUE=DATE-TIME:20200421T183000
SUMMARY:Studium Generale: History of pandemics
DTSTAMP:20250717T091154Z
LAST-MODIFIED:20250717T091154Z
LOCATION:Online via Zoom
DESCRIPTION:
URL;TYPE=URI:https://www.sg.uu.nl/agenda/2020/history-pandemics
END:VEVENT
END:VCALENDAR