BEGIN:VCALENDAR
VERSION:2.0
PRODID:-//Studium Generale Universiteit Utrecht//NONSGML sg.uu.nl//
METHOD:PUBLISH
CALSCALE:GREGORIAN
BEGIN:VEVENT
UID:event003774@sg.uu.nl
DTSTART;TZID=UTC;VALUE=DATE-TIME:20250311T190000
DTEND;TZID=UTC;VALUE=DATE-TIME:20250311T203000
SUMMARY:Studium Generale: Hoe grote vervuilers klimaatbeleid tegenwerken
DTSTAMP:20250718T072000Z
LAST-MODIFIED:20250718T072000Z
LOCATION:Academiegebouw (Aula)
DESCRIPTION:Hoe frustreren grote vervuilers klimaatbeleid?
URL;TYPE=URI:https://www.sg.uu.nl/agenda/2025/hoe-grote-vervuilers-klimaatbeleid-tegenwerken
END:VEVENT
END:VCALENDAR