BEGIN:VCALENDAR
VERSION:2.0
PRODID:-//Studium Generale Universiteit Utrecht//NONSGML sg.uu.nl//
METHOD:PUBLISH
CALSCALE:GREGORIAN
BEGIN:VEVENT
UID:event003796@sg.uu.nl
DTSTART;TZID=UTC;VALUE=DATE-TIME:20230221T190000
DTEND;TZID=UTC;VALUE=DATE-TIME:20230221T203000
SUMMARY:Studium Generale: How can crops survive extreme weather?
DTSTAMP:20250718T071949Z
LAST-MODIFIED:20250718T071949Z
LOCATION:Academiegebouw (Aula)
DESCRIPTION:Why do we need climate-resilient crops?
URL;TYPE=URI:https://www.sg.uu.nl/agenda/2023/how-can-crops-survive-extreme-weather
END:VEVENT
END:VCALENDAR