BEGIN:VCALENDAR
VERSION:2.0
PRODID:-//Studium Generale Universiteit Utrecht//NONSGML sg.uu.nl//
METHOD:PUBLISH
CALSCALE:GREGORIAN
BEGIN:VEVENT
UID:event003808@sg.uu.nl
DTSTART;TZID=UTC;VALUE=DATE-TIME:20180905T160000
DTEND;TZID=UTC;VALUE=DATE-TIME:20180905T173000
SUMMARY:Studium Generale: Ikke, ikke, ikke
DTSTAMP:20250717T091157Z
LAST-MODIFIED:20250717T091157Z
LOCATION:Academiegebouw (Aula)
DESCRIPTION:Leven we in een versplinterde samenleving?
URL;TYPE=URI:https://www.sg.uu.nl/agenda/2018/ikke-ikke-ikke
END:VEVENT
END:VCALENDAR