BEGIN:VCALENDAR
VERSION:2.0
PRODID:-//Studium Generale Universiteit Utrecht//NONSGML sg.uu.nl//
METHOD:PUBLISH
CALSCALE:GREGORIAN
BEGIN:VEVENT
UID:event003821@sg.uu.nl
DTSTART;TZID=UTC;VALUE=DATE-TIME:20191105T191500
DTEND;TZID=UTC;VALUE=DATE-TIME:20191105T210000
SUMMARY:Studium Generale: Is technologie onze beste vriend?
DTSTAMP:20250717T091158Z
LAST-MODIFIED:20250717T091158Z
LOCATION:Hofman Café
DESCRIPTION:Waarom gebruiken we technologie die we niet vertrouwen?
URL;TYPE=URI:https://www.sg.uu.nl/agenda/2019/technologie-onze-beste-vriend
END:VEVENT
END:VCALENDAR