BEGIN:VCALENDAR
VERSION:2.0
PRODID:-//Studium Generale Universiteit Utrecht//NONSGML sg.uu.nl//
METHOD:PUBLISH
CALSCALE:GREGORIAN
BEGIN:VEVENT
UID:event003823@sg.uu.nl
DTSTART;TZID=UTC;VALUE=DATE-TIME:20200224T190000
DTEND;TZID=UTC;VALUE=DATE-TIME:20200224T203000
SUMMARY:Studium Generale: It&#039;s a man&#039;s world
DTSTAMP:20250717T091158Z
LAST-MODIFIED:20250717T091158Z
LOCATION:TivoliVredenburg
DESCRIPTION:Hoe bewegen vrouwen zich door een wereld die is gemaakt voor en door mannen?
URL;TYPE=URI:https://www.sg.uu.nl/agenda/2020/its-mans-world
END:VEVENT
END:VCALENDAR