BEGIN:VCALENDAR
VERSION:2.0
PRODID:-//Studium Generale Universiteit Utrecht//NONSGML sg.uu.nl//
METHOD:PUBLISH
CALSCALE:GREGORIAN
BEGIN:VEVENT
UID:event003828@sg.uu.nl
DTSTART;TZID=UTC;VALUE=DATE-TIME:20231128T190000
DTEND;TZID=UTC;VALUE=DATE-TIME:20231128T203000
SUMMARY:Studium Generale: John Gray - Mannen komen van Mars, vrouwen van Venus
DTSTAMP:20250717T091200Z
LAST-MODIFIED:20250717T091200Z
LOCATION:Bibliotheek Neude
DESCRIPTION:Hoe verschillend zijn mannen en vrouwen volgens de wetenschap?
URL;TYPE=URI:https://www.sg.uu.nl/agenda/2023/john-gray-mannen-komen-van-mars-vrouwen-van-venus
END:VEVENT
END:VCALENDAR