BEGIN:VCALENDAR
VERSION:2.0
PRODID:-//Studium Generale Universiteit Utrecht//NONSGML sg.uu.nl//
METHOD:PUBLISH
CALSCALE:GREGORIAN
BEGIN:VEVENT
UID:event003833@sg.uu.nl
DTSTART;TZID=UTC;VALUE=DATE-TIME:20211207T190000
DTEND;TZID=UTC;VALUE=DATE-TIME:20211207T203000
SUMMARY:Studium Generale: Klassenjustitie in 2021
DTSTAMP:20250717T091200Z
LAST-MODIFIED:20250717T091200Z
LOCATION:TivoliVredenburg (Cloud Nine)
DESCRIPTION:Welke rol spelen cultuur en etniciteit in de rechtszaal?
URL;TYPE=URI:https://www.sg.uu.nl/agenda/2021/klassenjustitie-2021
END:VEVENT
END:VCALENDAR