BEGIN:VCALENDAR
VERSION:2.0
PRODID:-//Studium Generale Universiteit Utrecht//NONSGML sg.uu.nl//
METHOD:PUBLISH
CALSCALE:GREGORIAN
BEGIN:VEVENT
UID:event003846@sg.uu.nl
DTSTART;TZID=UTC;VALUE=DATE-TIME:20170605T093000
DTEND;TZID=UTC;VALUE=DATE-TIME:20170605T103000
SUMMARY:Studium Generale: Lekker (algo)ritme
DTSTAMP:20250718T071933Z
LAST-MODIFIED:20250718T071933Z
LOCATION:Winkel van Sinkel
DESCRIPTION:Hoe onderzoek je wat een liedje aanstekelijk maakt?
URL;TYPE=URI:https://www.sg.uu.nl/agenda/2017/lekker-algoritme
END:VEVENT
END:VCALENDAR