BEGIN:VCALENDAR
VERSION:2.0
PRODID:-//Studium Generale Universiteit Utrecht//NONSGML sg.uu.nl//
METHOD:PUBLISH
CALSCALE:GREGORIAN
BEGIN:VEVENT
UID:event003889@sg.uu.nl
DTSTART;TZID=UTC;VALUE=DATE-TIME:20200615T140000
DTEND;TZID=UTC;VALUE=DATE-TIME:20200615T150000
SUMMARY:Studium Generale: Nationale identiteit in crisistijd
DTSTAMP:20250717T091204Z
LAST-MODIFIED:20250717T091204Z
LOCATION:Online via Teams
DESCRIPTION:
URL;TYPE=URI:https://www.sg.uu.nl/agenda/2020/nationale-identiteit-crisistijd
END:VEVENT
END:VCALENDAR