BEGIN:VCALENDAR
VERSION:2.0
PRODID:-//Studium Generale Universiteit Utrecht//NONSGML sg.uu.nl//
METHOD:PUBLISH
CALSCALE:GREGORIAN
BEGIN:VEVENT
UID:event003896@sg.uu.nl
DTSTART;TZID=UTC;VALUE=DATE-TIME:20180405T133000
DTEND;TZID=UTC;VALUE=DATE-TIME:20180405T141500
SUMMARY:Studium Generale: Not just any body
DTSTAMP:20250717T091205Z
LAST-MODIFIED:20250717T091205Z
LOCATION:Green Office Utrecht
DESCRIPTION:How are killerbodies related to fatshaming?
URL;TYPE=URI:https://www.sg.uu.nl/agenda/2018/not-just-any-body
END:VEVENT
END:VCALENDAR