BEGIN:VCALENDAR
VERSION:2.0
PRODID:-//Studium Generale Universiteit Utrecht//NONSGML sg.uu.nl//
METHOD:PUBLISH
CALSCALE:GREGORIAN
BEGIN:VEVENT
UID:event003898@sg.uu.nl
DTSTART;TZID=UTC;VALUE=DATE-TIME:20161025T160000
DTEND;TZID=UTC;VALUE=DATE-TIME:20161025T173000
SUMMARY:Studium Generale: Onbetaalbare ontdekkingen
DTSTAMP:20250717T091205Z
LAST-MODIFIED:20250717T091205Z
LOCATION:Academiegebouw (Aula)
DESCRIPTION:Is de speurtocht naar de Big Bang miljarden euro&#039;s waard?
URL;TYPE=URI:https://www.sg.uu.nl/agenda/2016/onbetaalbare-ontdekkingen
END:VEVENT
END:VCALENDAR