BEGIN:VCALENDAR
VERSION:2.0
PRODID:-//Studium Generale Universiteit Utrecht//NONSGML sg.uu.nl//
METHOD:PUBLISH
CALSCALE:GREGORIAN
BEGIN:VEVENT
UID:event003901@sg.uu.nl
DTSTART;TZID=UTC;VALUE=DATE-TIME:20220906T163000
DTEND;TZID=UTC;VALUE=DATE-TIME:20220906T193000
SUMMARY:Studium Generale: Ongemakkelijk gesprek: Geld
DTSTAMP:20250717T091205Z
LAST-MODIFIED:20250717T091205Z
LOCATION:De Zware Jongens - Locatie Pieter Baan Centrum
DESCRIPTION:Hoe ver willen we gaan om welvaart eerlijker te verdelen?
URL;TYPE=URI:https://www.sg.uu.nl/agenda/2022/ongemakkelijk-gesprek-geld
END:VEVENT
END:VCALENDAR