BEGIN:VCALENDAR
VERSION:2.0
PRODID:-//Studium Generale Universiteit Utrecht//NONSGML sg.uu.nl//
METHOD:PUBLISH
CALSCALE:GREGORIAN
BEGIN:VEVENT
UID:event003906@sg.uu.nl
DTSTART;TZID=UTC;VALUE=DATE-TIME:20190220T190000
DTEND;TZID=UTC;VALUE=DATE-TIME:20190220T203000
SUMMARY:Studium Generale: Onzekere geschiedenis
DTSTAMP:20250717T091205Z
LAST-MODIFIED:20250717T091205Z
LOCATION:Academiegebouw (Aula)
DESCRIPTION:De toekomst is onzeker. Maar hoe stellig kun je eigenlijk zijn over het verleden?
URL;TYPE=URI:https://www.sg.uu.nl/agenda/2019/onzekere-geschiedenis
END:VEVENT
END:VCALENDAR