BEGIN:VCALENDAR
VERSION:2.0
PRODID:-//Studium Generale Universiteit Utrecht//NONSGML sg.uu.nl//
METHOD:PUBLISH
CALSCALE:GREGORIAN
BEGIN:VEVENT
UID:event003922@sg.uu.nl
DTSTART;TZID=UTC;VALUE=DATE-TIME:20160913T161500
DTEND;TZID=UTC;VALUE=DATE-TIME:20160913T180000
SUMMARY:Studium Generale: Over grenzen
DTSTAMP:20250718T071936Z
LAST-MODIFIED:20250718T071936Z
LOCATION:Hofman Café
DESCRIPTION:De vluchtelingeninstroom brengt dilemma&#039;s met zich mee. Nieuwkomers moeten integreren, maar hoe?
URL;TYPE=URI:https://www.sg.uu.nl/agenda/2016/over-grenzen
END:VEVENT
END:VCALENDAR