BEGIN:VCALENDAR
VERSION:2.0
PRODID:-//Studium Generale Universiteit Utrecht//NONSGML sg.uu.nl//
METHOD:PUBLISH
CALSCALE:GREGORIAN
BEGIN:VEVENT
UID:event003925@sg.uu.nl
DTSTART;TZID=UTC;VALUE=DATE-TIME:20170215T180000
DTEND;TZID=UTC;VALUE=DATE-TIME:20170215T193000
SUMMARY:Studium Generale: Over muizen en mannen
DTSTAMP:20250718T071933Z
LAST-MODIFIED:20250718T071933Z
LOCATION:Academiegebouw (Aula)
DESCRIPTION:Wat zeggen testen op muizen over de gezondheid van mensen?
URL;TYPE=URI:https://www.sg.uu.nl/agenda/2017/over-muizen-en-mannen
END:VEVENT
END:VCALENDAR