BEGIN:VCALENDAR
VERSION:2.0
PRODID:-//Studium Generale Universiteit Utrecht//NONSGML sg.uu.nl//
METHOD:PUBLISH
CALSCALE:GREGORIAN
BEGIN:VEVENT
UID:event003930@sg.uu.nl
DTSTART;TZID=UTC;VALUE=DATE-TIME:20200602T170000
DTEND;TZID=UTC;VALUE=DATE-TIME:20200602T180000
SUMMARY:Studium Generale: Pandemics in international relations
DTSTAMP:20250717T091209Z
LAST-MODIFIED:20250717T091209Z
LOCATION:Online via Zoom
DESCRIPTION:What lessons can we draw from earlier efforts to fight disease outbreaks?
URL;TYPE=URI:https://www.sg.uu.nl/agenda/2020/pandemics-international-relations
END:VEVENT
END:VCALENDAR