BEGIN:VCALENDAR
VERSION:2.0
PRODID:-//Studium Generale Universiteit Utrecht//NONSGML sg.uu.nl//
METHOD:PUBLISH
CALSCALE:GREGORIAN
BEGIN:VEVENT
UID:event003931@sg.uu.nl
DTSTART;TZID=UTC;VALUE=DATE-TIME:20180517T133000
DTEND;TZID=UTC;VALUE=DATE-TIME:20180517T141500
SUMMARY:Studium Generale: Picture perfect
DTSTAMP:20250717T091209Z
LAST-MODIFIED:20250717T091209Z
LOCATION:Green Office Utrecht
DESCRIPTION:How does social media affect our self-image?
URL;TYPE=URI:https://www.sg.uu.nl/agenda/2018/picture-perfect
END:VEVENT
END:VCALENDAR