BEGIN:VCALENDAR
VERSION:2.0
PRODID:-//Studium Generale Universiteit Utrecht//NONSGML sg.uu.nl//
METHOD:PUBLISH
CALSCALE:GREGORIAN
BEGIN:VEVENT
UID:event003946@sg.uu.nl
DTSTART;TZID=UTC;VALUE=DATE-TIME:20170208T180000
DTEND;TZID=UTC;VALUE=DATE-TIME:20170208T193000
SUMMARY:Studium Generale: Representaties onder de loep
DTSTAMP:20250718T071934Z
LAST-MODIFIED:20250718T071934Z
LOCATION:Academiegebouw (Aula)
DESCRIPTION:Wat zeggen wetenschappelijke representaties over de werkelijkheid?
URL;TYPE=URI:https://www.sg.uu.nl/agenda/2017/representaties-onder-de-loep
END:VEVENT
END:VCALENDAR