BEGIN:VCALENDAR
VERSION:2.0
PRODID:-//Studium Generale Universiteit Utrecht//NONSGML sg.uu.nl//
METHOD:PUBLISH
CALSCALE:GREGORIAN
BEGIN:VEVENT
UID:event003952@sg.uu.nl
DTSTART;TZID=UTC;VALUE=DATE-TIME:20201105T190000
DTEND;TZID=UTC;VALUE=DATE-TIME:20201105T203000
SUMMARY:Studium Generale: Schimmige wetenschap
DTSTAMP:20250718T071942Z
LAST-MODIFIED:20250718T071942Z
LOCATION:
DESCRIPTION:Over controversiële wetenschapspraktijken
URL;TYPE=URI:https://www.sg.uu.nl/agenda/2020/schimmige-wetenschap
END:VEVENT
END:VCALENDAR