BEGIN:VCALENDAR
VERSION:2.0
PRODID:-//Studium Generale Universiteit Utrecht//NONSGML sg.uu.nl//
METHOD:PUBLISH
CALSCALE:GREGORIAN
BEGIN:VEVENT
UID:event003975@sg.uu.nl
DTSTART;TZID=UTC;VALUE=DATE-TIME:20151116T183000
DTEND;TZID=UTC;VALUE=DATE-TIME:20151116T200000
SUMMARY:Studium Generale: Science Café over humor
DTSTAMP:20250718T071936Z
LAST-MODIFIED:20250718T071936Z
LOCATION:TivoliVredenburg
DESCRIPTION:
URL;TYPE=URI:https://www.sg.uu.nl/agenda/2015/science-cafe-over-humor
END:VEVENT
END:VCALENDAR