BEGIN:VCALENDAR
VERSION:2.0
PRODID:-//Studium Generale Universiteit Utrecht//NONSGML sg.uu.nl//
METHOD:PUBLISH
CALSCALE:GREGORIAN
BEGIN:VEVENT
UID:event003983@sg.uu.nl
DTSTART;TZID=UTC;VALUE=DATE-TIME:20171127T183000
DTEND;TZID=UTC;VALUE=DATE-TIME:20171127T200000
SUMMARY:Studium Generale: Science Café over slaap
DTSTAMP:20250718T071926Z
LAST-MODIFIED:20250718T071926Z
LOCATION:TivoliVredenburg
DESCRIPTION:Wat is het nut van slaap?
URL;TYPE=URI:https://www.sg.uu.nl/agenda/2017/science-cafe-over-slaap
END:VEVENT
END:VCALENDAR