BEGIN:VCALENDAR
VERSION:2.0
PRODID:-//Studium Generale Universiteit Utrecht//NONSGML sg.uu.nl//
METHOD:PUBLISH
CALSCALE:GREGORIAN
BEGIN:VEVENT
UID:event003984@sg.uu.nl
DTSTART;TZID=UTC;VALUE=DATE-TIME:20160523T163000
DTEND;TZID=UTC;VALUE=DATE-TIME:20160523T180000
SUMMARY:Studium Generale: Science Café over stamcellen
DTSTAMP:20250718T071938Z
LAST-MODIFIED:20250718T071938Z
LOCATION:TivoliVredenburg
DESCRIPTION:Stamcelonderzoek: Is de tijd van de volledig maakbare mens wellicht nu al aangebroken?
URL;TYPE=URI:https://www.sg.uu.nl/agenda/2016/science-cafe-over-stamcellen
END:VEVENT
END:VCALENDAR