BEGIN:VCALENDAR
VERSION:2.0
PRODID:-//Studium Generale Universiteit Utrecht//NONSGML sg.uu.nl//
METHOD:PUBLISH
CALSCALE:GREGORIAN
BEGIN:VEVENT
UID:event004006@sg.uu.nl
DTSTART;TZID=UTC;VALUE=DATE-TIME:20241104T190000
DTEND;TZID=UTC;VALUE=DATE-TIME:20241104T203000
SUMMARY:Studium Generale: Science Café: Quantumrevolutie
DTSTAMP:20250717T091215Z
LAST-MODIFIED:20250717T091215Z
LOCATION:TivoliVredenburg (Cloud Nine)
DESCRIPTION:Gaat quantumtechnologie de wereld veranderen?
URL;TYPE=URI:https://www.sg.uu.nl/agenda/2024/science-cafe-quantumrevolutie
END:VEVENT
END:VCALENDAR