BEGIN:VCALENDAR
VERSION:2.0
PRODID:-//Studium Generale Universiteit Utrecht//NONSGML sg.uu.nl//
METHOD:PUBLISH
CALSCALE:GREGORIAN
BEGIN:VEVENT
UID:event004008@sg.uu.nl
DTSTART;TZID=UTC;VALUE=DATE-TIME:20220509T183000
DTEND;TZID=UTC;VALUE=DATE-TIME:20220509T200000
SUMMARY:Studium Generale: Science Café: Vrije wil
DTSTAMP:20250717T091215Z
LAST-MODIFIED:20250717T091215Z
LOCATION:TivoliVredenburg (Hertz)
DESCRIPTION:Is de vrije wil een illusie?
URL;TYPE=URI:https://www.sg.uu.nl/agenda/2022/science-cafe-vrije-wil
END:VEVENT
END:VCALENDAR