BEGIN:VCALENDAR
VERSION:2.0
PRODID:-//Studium Generale Universiteit Utrecht//NONSGML sg.uu.nl//
METHOD:PUBLISH
CALSCALE:GREGORIAN
BEGIN:VEVENT
UID:event004019@sg.uu.nl
DTSTART;TZID=UTC;VALUE=DATE-TIME:20170302T150000
DTEND;TZID=UTC;VALUE=DATE-TIME:20170302T163000
SUMMARY:Studium Generale: Sex on screen
DTSTAMP:20250717T091215Z
LAST-MODIFIED:20250717T091215Z
LOCATION:TivoliVredenburg
DESCRIPTION:What is the influence of Fifty Shades of Grey on our sexual standards?
URL;TYPE=URI:https://www.sg.uu.nl/agenda/2017/sex-screen
END:VEVENT
END:VCALENDAR