BEGIN:VCALENDAR
VERSION:2.0
PRODID:-//Studium Generale Universiteit Utrecht//NONSGML sg.uu.nl//
METHOD:PUBLISH
CALSCALE:GREGORIAN
BEGIN:VEVENT
UID:event004021@sg.uu.nl
DTSTART;TZID=UTC;VALUE=DATE-TIME:20160222T180000
DTEND;TZID=UTC;VALUE=DATE-TIME:20160222T193000
SUMMARY:Studium Generale: SG Actueel: Slimme bommen?
DTSTAMP:20250717T091215Z
LAST-MODIFIED:20250717T091215Z
LOCATION:Academiegebouw (Aula)
DESCRIPTION:Oorlogsvoering met drones eist ook burgerslachtoffers. Hoe slim zijn die bombardementen dan?
URL;TYPE=URI:https://www.sg.uu.nl/agenda/2016/sg-actueel-slimme-bommen
END:VEVENT
END:VCALENDAR