BEGIN:VCALENDAR
VERSION:2.0
PRODID:-//Studium Generale Universiteit Utrecht//NONSGML sg.uu.nl//
METHOD:PUBLISH
CALSCALE:GREGORIAN
BEGIN:VEVENT
UID:event004038@sg.uu.nl
DTSTART;TZID=UTC;VALUE=DATE-TIME:20170411T161500
DTEND;TZID=UTC;VALUE=DATE-TIME:20170411T180000
SUMMARY:Studium Generale: Tegen de twijfel
DTSTAMP:20250718T071932Z
LAST-MODIFIED:20250718T071932Z
LOCATION:Hofman Café
DESCRIPTION:Hoe kan je weten of er een wereld buiten je eigen gedachten bestaat?
URL;TYPE=URI:https://www.sg.uu.nl/agenda/2017/tegen-de-twijfel
END:VEVENT
END:VCALENDAR