BEGIN:VCALENDAR
VERSION:2.0
PRODID:-//Studium Generale Universiteit Utrecht//NONSGML sg.uu.nl//
METHOD:PUBLISH
CALSCALE:GREGORIAN
BEGIN:VEVENT
UID:event004041@sg.uu.nl
DTSTART;TZID=UTC;VALUE=DATE-TIME:20180910T160000
DTEND;TZID=UTC;VALUE=DATE-TIME:20180910T170000
SUMMARY:Studium Generale: The Americans
DTSTAMP:20250717T091217Z
LAST-MODIFIED:20250717T091217Z
LOCATION:TivoliVredenburg (Rabo Open Stage)
DESCRIPTION:Werkt diplomatie in Trumps tijdperk anders dan tijdens de Koude Oorlog?
URL;TYPE=URI:https://www.sg.uu.nl/agenda/2018/americans
END:VEVENT
END:VCALENDAR