BEGIN:VCALENDAR
VERSION:2.0
PRODID:-//Studium Generale Universiteit Utrecht//NONSGML sg.uu.nl//
METHOD:PUBLISH
CALSCALE:GREGORIAN
BEGIN:VEVENT
UID:event004048@sg.uu.nl
DTSTART;TZID=UTC;VALUE=DATE-TIME:20170321T180000
DTEND;TZID=UTC;VALUE=DATE-TIME:20170321T193000
SUMMARY:Studium Generale: The poverty trap
DTSTAMP:20250717T091219Z
LAST-MODIFIED:20250717T091219Z
LOCATION:Academiegebouw (Aula)
DESCRIPTION:Is there a way out of the poverty trap?
URL;TYPE=URI:https://www.sg.uu.nl/agenda/2017/poverty-trap
END:VEVENT
END:VCALENDAR