BEGIN:VCALENDAR
VERSION:2.0
PRODID:-//Studium Generale Universiteit Utrecht//NONSGML sg.uu.nl//
METHOD:PUBLISH
CALSCALE:GREGORIAN
BEGIN:VEVENT
UID:event004050@sg.uu.nl
DTSTART;TZID=UTC;VALUE=DATE-TIME:20231023T180000
DTEND;TZID=UTC;VALUE=DATE-TIME:20231023T193000
SUMMARY:Studium Generale: The road to climate justice
DTSTAMP:20250717T091219Z
LAST-MODIFIED:20250717T091219Z
LOCATION:TivoliVredenburg (Cloud Nine)
DESCRIPTION:How to achieve climate justice?
URL;TYPE=URI:https://www.sg.uu.nl/agenda/2023/road-climate-justice
END:VEVENT
END:VCALENDAR