BEGIN:VCALENDAR
VERSION:2.0
PRODID:-//Studium Generale Universiteit Utrecht//NONSGML sg.uu.nl//
METHOD:PUBLISH
CALSCALE:GREGORIAN
BEGIN:VEVENT
UID:event004052@sg.uu.nl
DTSTART;TZID=UTC;VALUE=DATE-TIME:20191112T190000
DTEND;TZID=UTC;VALUE=DATE-TIME:20191112T203000
SUMMARY:Studium Generale: The scramble for the North Pole
DTSTAMP:20250717T091219Z
LAST-MODIFIED:20250717T091219Z
LOCATION:Academiegebouw (Aula)
DESCRIPTION:Who will control the melting Arctic?
URL;TYPE=URI:https://www.sg.uu.nl/agenda/2019/scramble-north-pole
END:VEVENT
END:VCALENDAR