BEGIN:VCALENDAR
VERSION:2.0
PRODID:-//Studium Generale Universiteit Utrecht//NONSGML sg.uu.nl//
METHOD:PUBLISH
CALSCALE:GREGORIAN
BEGIN:VEVENT
UID:event004063@sg.uu.nl
DTSTART;TZID=UTC;VALUE=DATE-TIME:20171019T133000
DTEND;TZID=UTC;VALUE=DATE-TIME:20171019T141500
SUMMARY:Studium Generale: Tv-series ontleed: Game of Thrones
DTSTAMP:20250718T071927Z
LAST-MODIFIED:20250718T071927Z
LOCATION:TivoliVredenburg
DESCRIPTION:Wat is het geheim van Game of Thrones?
URL;TYPE=URI:https://www.sg.uu.nl/agenda/2017/tv-series-ontleed-game-thrones
END:VEVENT
END:VCALENDAR