BEGIN:VCALENDAR
VERSION:2.0
PRODID:-//Studium Generale Universiteit Utrecht//NONSGML sg.uu.nl//
METHOD:PUBLISH
CALSCALE:GREGORIAN
BEGIN:VEVENT
UID:event004067@sg.uu.nl
DTSTART;TZID=UTC;VALUE=DATE-TIME:20171012T133000
DTEND;TZID=UTC;VALUE=DATE-TIME:20171012T141500
SUMMARY:Studium Generale: Tv-series ontleed: Narcos
DTSTAMP:20250718T071928Z
LAST-MODIFIED:20250718T071928Z
LOCATION:TivoliVredenburg
DESCRIPTION:Wat vertelt Narcos je niet over de war on drugs?
URL;TYPE=URI:https://www.sg.uu.nl/agenda/2017/tv-series-ontleed-narcos
END:VEVENT
END:VCALENDAR