BEGIN:VCALENDAR
VERSION:2.0
PRODID:-//Studium Generale Universiteit Utrecht//NONSGML sg.uu.nl//
METHOD:PUBLISH
CALSCALE:GREGORIAN
BEGIN:VEVENT
UID:event004082@sg.uu.nl
DTSTART;TZID=UTC;VALUE=DATE-TIME:20210613T080000
DTEND;TZID=UTC;VALUE=DATE-TIME:20210613T170000
SUMMARY:Studium Generale: Utrechtse Dag van de Filosofie 2021
DTSTAMP:20250717T091221Z
LAST-MODIFIED:20250717T091221Z
LOCATION:Academiegebouw (Aula)
DESCRIPTION:Filosofeer mee en verbreed je blik op de wereld om je heen.
URL;TYPE=URI:https://www.sg.uu.nl/agenda/2021/utrechtse-dag-van-de-filosofie-2021
END:VEVENT
END:VCALENDAR