BEGIN:VCALENDAR
VERSION:2.0
PRODID:-//Studium Generale Universiteit Utrecht//NONSGML sg.uu.nl//
METHOD:PUBLISH
CALSCALE:GREGORIAN
BEGIN:VEVENT
UID:event004088@sg.uu.nl
DTSTART;TZID=UTC;VALUE=DATE-TIME:20170412T160000
DTEND;TZID=UTC;VALUE=DATE-TIME:20170412T173000
SUMMARY:Studium Generale: Van Holocaust tot herinneringsoorlog
DTSTAMP:20250717T091222Z
LAST-MODIFIED:20250717T091222Z
LOCATION:Academiegebouw (Aula)
DESCRIPTION:Hoe ga je om met beladen plekken?
URL;TYPE=URI:https://www.sg.uu.nl/agenda/2017/van-holocaust-tot-herinneringsoorlog
END:VEVENT
END:VCALENDAR